1.000000
0.000000
-0.000000
-1.000000
2155000.500000
749999.500000
