1.000000
0.000000
-0.000000
-1.000000
2185000.500000
764999.500000
