0.300000
0.000000
0.000000
-0.300000
517551.440089
3630529.623120
