0.300000
0.000000
0.000000
-0.300000
453126.740089
3623683.923120
