0.300000
0.000000
0.000000
-0.300000
605094.440089
3651914.223120
