0.300000
0.000000
0.000000
-0.300000
529314.440089
3609778.623120
