0.300000
0.000000
0.000000
-0.300000
505898.540089
3547371.123120
