0.300000
0.000000
0.000000
-0.300000
610776.740089
3665840.823120
