0.300000
0.000000
0.000000
-0.300000
552656.540089
3630674.823120
