0.300000
0.000000
0.000000
-0.300000
581911.640089
3630891.123120
