0.300000
0.000000
0.000000
-0.300000
505858.040089
3616651.923120
