0.300000
0.000000
0.000000
-0.300000
668606.459256
3694432.082759
