0.300000
0.000000
0.000000
-0.300000
616690.040089
3658982.523120
