0.300000
0.000000
0.000000
-0.300000
639433.259256
3700882.382759
