0.300000
0.000000
0.000000
-0.300000
482312.540089
3561235.323120
