0.300000
0.000000
0.000000
-0.300000
552876.740089
3589103.823120
