0.300000
0.000000
0.000000
-0.300000
592952.840089
3700295.523120
