0.300000
0.000000
0.000000
-0.300000
622611.740089
3652127.523120
