0.300000
0.000000
0.000000
-0.300000
517514.540089
3651315.723120
