0.300000
0.000000
0.000000
-0.300000
529191.440089
3651350.523120
