0.250000
0.000000
-0.000000
-0.250000
342000.125000
3094999.875000
