0.250000
0.000000
-0.000000
-0.250000
344000.125000
3082999.875000
