0.250000
0.000000
-0.000000
-0.250000
346000.125000
3092999.875000
