0.500000
0.000000
0.000000
-0.500000
795000.250000
454999.750000
