0.500000
0.000000
0.000000
-0.500000
800000.250000
439999.750000
