0.500000
0.000000
0.000000
-0.500000
805000.250000
479999.750000
