0.500000
0.000000
0.000000
-0.500000
840000.250000
414999.750000
