0.5
0
0
-0.5
845000.25
364999.75
