0.5
0
0
-0.5
850000.25
349999.75
