0.500000
0.000000
0.000000
-0.500000
850000.250000
464999.750000
