0.500000
0.000000
0.000000
-0.500000
885000.250000
659999.750000
