0.500000
0.000000
0.000000
-0.500000
895000.250000
564999.750000
