0.500000
0.000000
0.000000
-0.500000
910000.250000
634999.750000
