0.500000
0.000000
0.000000
-0.500000
950000.250000
539999.750000
