0.3
0
0
-0.3
129800.15
3733799.85
