0.3
0
0
-0.3
135800.15
3736799.85
