0.3
0
0
-0.3
234800.15
3793799.85
