0.3
0
0
-0.3
312800.15
3895799.85
