0.3
0
0
-0.3
336800.15
3895799.85
