0.3
0
0
-0.3
345800.15
3847799.85
