0.3
0
0
-0.3
351800.15
3913799.85
