0.3
0
0
-0.3
420800.15
4027799.85
