0.3
0
0
-0.3
447800.15
3958799.85
