0.3
0
0
-0.3
456800.15
3940799.85
